BEGIN:VCALENDAR
PRODID:-//punkave//apostrophe 1.x//EN
VERSION:1.0
TZ:0
BEGIN:VEVENT
CATEGORIES:MEETING
DTSTART:20141224T050000Z
DTEND:20150104T175959Z
DTSTAMP:20140617T014826Z
SUMMARY:Winter Break: SCHOOL CLOSED
DESCRIPTION:ADM CLOSED.
LOCATION:
UID:2011
END:VEVENT
END:VCALENDAR