BEGIN:VCALENDAR
PRODID:-//punkave//apostrophe 1.x//EN
VERSION:1.0
TZ:0
BEGIN:VEVENT
CATEGORIES:MEETING
DTSTART:20150107T230000Z
DTEND:20150108T010000Z
DTSTAMP:20140929T222058Z
SUMMARY:Auction Committee Envelope Stuffing Party
DESCRIPTION:
LOCATION:GTMS East Lobby
UID:2133
END:VEVENT
END:VCALENDAR