BEGIN:VCALENDAR
PRODID:-//punkave//apostrophe 1.x//EN
VERSION:1.0
TZ:0
BEGIN:VEVENT
CATEGORIES:MEETING
DTSTART:20150108T220000Z
DTEND:20150108T230000Z
DTSTAMP:20140617T015600Z
SUMMARY:East/West Primary Parent/Child Classroom Visit (First Year Primary Students)
DESCRIPTION:This is a special evening for first year children to bring their parents to the classroom. Second year and beyond children had a visit in December.
LOCATION:
UID:2015
END:VEVENT
END:VCALENDAR