BEGIN:VCALENDAR
PRODID:-//punkave//apostrophe 1.x//EN
VERSION:1.0
TZ:0
BEGIN:VEVENT
CATEGORIES:MEETING
DTSTART:20150112T230000Z
DTEND:20150113T010000Z
DTSTAMP:20140617T015800Z
SUMMARY:Board Meeting
DESCRIPTION:
LOCATION:
UID:2016
END:VEVENT
END:VCALENDAR