BEGIN:VCALENDAR
PRODID:-//punkave//apostrophe 1.x//EN
VERSION:1.0
TZ:0
BEGIN:VEVENT
CATEGORIES:MEETING
DTSTART:20150116T050000Z
DTEND:20150118T175959Z
DTSTAMP:20140617T020400Z
SUMMARY:Staff In-Service: SCHOOL CLOSED
DESCRIPTION:ADM in Session.
LOCATION:
UID:2017
END:VEVENT
END:VCALENDAR