BEGIN:VCALENDAR
PRODID:-//punkave//apostrophe 1.x//EN
VERSION:1.0
TZ:0
BEGIN:VEVENT
CATEGORIES:MEETING
DTSTART:20150119T050000Z
DTEND:20150121T175959Z
DTSTAMP:20140617T020700Z
SUMMARY:Martin Luther King Jr. Day: SCHOOL CLOSED
DESCRIPTION:Sign up for the MLK Day of Service! $5 per person or $20 per family to pay for materials to make blankets for Project Linus! ADM CLOSED.
LOCATION:
UID:2018
END:VEVENT
END:VCALENDAR