BEGIN:VCALENDAR
PRODID:-//punkave//apostrophe 1.x//EN
VERSION:1.0
TZ:0
BEGIN:VEVENT
CATEGORIES:MEETING
DTSTART:20150122T050000Z
DTEND:20150124T175959Z
DTSTAMP:20140619T224600Z
SUMMARY:Winter Parent Social
DESCRIPTION:
LOCATION:
UID:2080
END:VEVENT
END:VCALENDAR