BEGIN:VCALENDAR
PRODID:-//punkave//apostrophe 1.x//EN
VERSION:1.0
TZ:0
BEGIN:VEVENT
CATEGORIES:MEETING
DTSTART:20150123T163000Z
DTEND:20150123T173000Z
DTSTAMP:20140729T231841Z
SUMMARY:LATW: Greek
DESCRIPTION:The K students should not bring lunch today!
LOCATION:
UID:2090
END:VEVENT
END:VCALENDAR