BEGIN:VCALENDAR
PRODID:-//punkave//apostrophe 1.x//EN
VERSION:1.0
TZ:0
BEGIN:VEVENT
CATEGORIES:MEETING
DTSTART:20150129T230000Z
DTEND:20150130T013000Z
DTSTAMP:20141113T224400Z
SUMMARY:Parent Education: Is Your Child As Smart As You Think They Are
DESCRIPTION:Is Your Child As Smart As You Think They Are? With Lisa Dissinger, PhD Over the past five years, educators have started to realize that it is a child\'s executive functioning that determines how well they perform in school. Dr. Dissinger will talk about the six basic executive functions, why they are important, and what parents can do to develop good executive functioning in their children. Join us to learn more about this relevant topic for parents! Click HERE to RSVP! Thursday / January 29, 2015 / Reception 6:30 PM / Workshop 7:00‑8:30 PM
LOCATION:
UID:2180
END:VEVENT
END:VCALENDAR