BEGIN:VCALENDAR
PRODID:-//punkave//apostrophe 1.x//EN
VERSION:1.0
TZ:0
BEGIN:VEVENT
CATEGORIES:MEETING
DTSTART:20150129T050000Z
DTEND:20150131T175959Z
DTSTAMP:20140617T021100Z
SUMMARY:Picture Day: GTMS WEST
DESCRIPTION:It\'s Picture Day! Make sure to get to school EARLY as we will start taking pics at 8:30am SHARP, or before if a class is ready to go! Primary students at GTMS EAST will take pictures tomorrow (1/30), same time!
LOCATION:
UID:2019
END:VEVENT
END:VCALENDAR