BEGIN:VCALENDAR
PRODID:-//punkave//apostrophe 1.x//EN
VERSION:1.0
TZ:0
BEGIN:VEVENT
CATEGORIES:MEETING
DTSTART:20150130T050000Z
DTEND:20150201T175959Z
DTSTAMP:20140617T021429Z
SUMMARY:Picture Day: GTMS EAST
DESCRIPTION:It\'s Picture Day! Make sure to get to school EARLY as we will start taking pics at 9am SHARP, or before if a class is ready to go! Toddlers and ADM students (GTMS West) took pictures yesterday, 1/29.
LOCATION:
UID:2020
END:VEVENT
END:VCALENDAR