BEGIN:VCALENDAR
PRODID:-//punkave//apostrophe 1.x//EN
VERSION:1.0
TZ:0
BEGIN:VEVENT
CATEGORIES:MEETING
DTSTART:20150202T050000Z
DTEND:20150204T175959Z
DTSTAMP:20140617T022405Z
SUMMARY:Re-Enrollment Due
DESCRIPTION:
LOCATION:
UID:2021
END:VEVENT
END:VCALENDAR