BEGIN:VCALENDAR
PRODID:-//punkave//apostrophe 1.x//EN
VERSION:1.0
TZ:0
BEGIN:VEVENT
CATEGORIES:MEETING
DTSTART:20150205T131500Z
DTEND:20150205T140000Z
DTSTAMP:20140617T022500Z
SUMMARY:1st Thursday Coffee: Movement with Ms. Andi
DESCRIPTION:Join Ms. Andi for a Parent Movement Class and get an idea of what your child is learning twice a week!
LOCATION:
UID:2022
END:VEVENT
END:VCALENDAR