BEGIN:VCALENDAR
PRODID:-//punkave//apostrophe 1.x//EN
VERSION:1.0
TZ:0
BEGIN:VEVENT
CATEGORIES:MEETING
DTSTART:20150209T230000Z
DTEND:20150210T010000Z
DTSTAMP:20140617T022700Z
SUMMARY:Board Meeting
DESCRIPTION:
LOCATION:
UID:2023
END:VEVENT
END:VCALENDAR