BEGIN:VCALENDAR
PRODID:-//punkave//apostrophe 1.x//EN
VERSION:1.0
TZ:0
BEGIN:VEVENT
CATEGORIES:MEETING
DTSTART:20150210T131500Z
DTEND:20150210T140000Z
DTSTAMP:20140617T022935Z
SUMMARY:Coffee with Laura Connor
DESCRIPTION:Toddler parent coffee with Laura Connor.
LOCATION:
UID:2024
END:VEVENT
END:VCALENDAR