BEGIN:VCALENDAR
PRODID:-//punkave//apostrophe 1.x//EN
VERSION:1.0
TZ:0
BEGIN:VEVENT
CATEGORIES:MEETING
DTSTART:20150211T131500Z
DTEND:20150211T140000Z
DTSTAMP:20140617T023136Z
SUMMARY:Coffee with Michelle Nowacky
DESCRIPTION:Toddler parent coffee with Michelle Nowacky.
LOCATION:
UID:2025
END:VEVENT
END:VCALENDAR