BEGIN:VCALENDAR
PRODID:-//punkave//apostrophe 1.x//EN
VERSION:1.0
TZ:0
BEGIN:VEVENT
CATEGORIES:MEETING
DTSTART:20150212T000000Z
DTEND:20150212T000000Z
DTSTAMP:20140617T023601Z
SUMMARY:Kindergarten Parent to Kindergarten Alumni Parent Wine and Cheese Social
DESCRIPTION:
LOCATION:
UID:2026
END:VEVENT
END:VCALENDAR