BEGIN:VCALENDAR
PRODID:-//punkave//apostrophe 1.x//EN
VERSION:1.0
TZ:0
BEGIN:VEVENT
CATEGORIES:MEETING
DTSTART:20150216T050000Z
DTEND:20150218T175959Z
DTSTAMP:20140617T223630Z
SUMMARY:Presidents Day: SCHOOL CLOSED
DESCRIPTION:ADM CLOSED.
LOCATION:
UID:2032
END:VEVENT
END:VCALENDAR