BEGIN:VCALENDAR
PRODID:-//punkave//apostrophe 1.x//EN
VERSION:1.0
TZ:0
BEGIN:VEVENT
CATEGORIES:MEETING
DTSTART:20150220T163000Z
DTEND:20150220T173000Z
DTSTAMP:20140729T232110Z
SUMMARY:LATW: Latin
DESCRIPTION:
LOCATION:
UID:2091
END:VEVENT
END:VCALENDAR