BEGIN:VCALENDAR
PRODID:-//punkave//apostrophe 1.x//EN
VERSION:1.0
TZ:0
BEGIN:VEVENT
CATEGORIES:MEETING
DTSTART:20150222T173000Z
DTEND:20150222T203000Z
DTSTAMP:20150205T234400Z
SUMMARY:Winter Family Social
DESCRIPTION:Sunday, February 22, 2015 University of Penn Ice Rink 3130 Walnut Street 12:30-3:30pm We\'ll have a room, so bring your own lunch and ice skate if you wish! Stay tuned for more info!
LOCATION:
UID:2249
END:VEVENT
END:VCALENDAR