BEGIN:VCALENDAR
PRODID:-//punkave//apostrophe 1.x//EN
VERSION:1.0
TZ:0
BEGIN:VEVENT
CATEGORIES:MEETING
DTSTART:20150223T050000Z
DTEND:20150302T175959Z
DTSTAMP:20140617T224100Z
SUMMARY:Montessori Education Week
DESCRIPTION:
LOCATION:
UID:2035
END:VEVENT
END:VCALENDAR