BEGIN:VCALENDAR
PRODID:-//punkave//apostrophe 1.x//EN
VERSION:1.0
TZ:0
BEGIN:VEVENT
CATEGORIES:MEETING
DTSTART:20150224T220000Z
DTEND:20150224T230000Z
DTSTAMP:20140617T224600Z
SUMMARY:Toddler House Parent/Child Visit
DESCRIPTION:Tuesday or Thursday, 2/24 and 2/26, Toddlers can bring their parents to class and show off their work! Sign up here: http://www.signupgenius.com/go/8050b49afae28a13-toddler5
LOCATION:
UID:2037
END:VEVENT
END:VCALENDAR