BEGIN:VCALENDAR
PRODID:-//punkave//apostrophe 1.x//EN
VERSION:1.0
TZ:0
BEGIN:VEVENT
CATEGORIES:MEETING
DTSTART:20150225T223000Z
DTEND:20150225T233000Z
DTSTAMP:20140617T225458Z
SUMMARY:Applying to First Grade Workshop
DESCRIPTION:
LOCATION:
UID:2039
END:VEVENT
END:VCALENDAR