BEGIN:VCALENDAR
PRODID:-//punkave//apostrophe 1.x//EN
VERSION:1.0
TZ:0
BEGIN:VEVENT
CATEGORIES:MEETING
DTSTART:20150225T140000Z
DTEND:20150225T150000Z
DTSTAMP:20150219T033542Z
SUMMARY:Kindergarten Photo Shoot
DESCRIPTION:Be sure tohave your K here bright and early wearing dark clothes for this annual picture!
LOCATION:
UID:2258
END:VEVENT
END:VCALENDAR