BEGIN:VCALENDAR
PRODID:-//punkave//apostrophe 1.x//EN
VERSION:1.0
TZ:0
BEGIN:VEVENT
CATEGORIES:MEETING
DTSTART:20150226T131500Z
DTEND:20150226T140000Z
DTSTAMP:20140617T225653Z
SUMMARY:Coffee with Jean Prestas
DESCRIPTION:Primary parent coffee with Jean Prestas.
LOCATION:
UID:2040
END:VEVENT
END:VCALENDAR