BEGIN:VCALENDAR
PRODID:-//punkave//apostrophe 1.x//EN
VERSION:1.0
TZ:0
BEGIN:VEVENT
CATEGORIES:MEETING
DTSTART:20150226T220000Z
DTEND:20150226T230000Z
DTSTAMP:20140617T225956Z
SUMMARY:Toddler House Parent/Child Visit
DESCRIPTION:Tuesday or Thursday, 2/24 and 2/26, Toddlers can bring their parents to class and show off their work! We will contact you to schedule your visit date
LOCATION:
UID:2041
END:VEVENT
END:VCALENDAR