BEGIN:VCALENDAR
PRODID:-//punkave//apostrophe 1.x//EN
VERSION:1.0
TZ:0
BEGIN:VEVENT
CATEGORIES:MEETING
DTSTART:20150306T050000Z
DTEND:20150308T175959Z
DTSTAMP:20140617T230900Z
SUMMARY:GTMS Auction
DESCRIPTION:At the Academy of Natural Sciences from 6-10pm!
LOCATION:
UID:2043
END:VEVENT
END:VCALENDAR