BEGIN:VCALENDAR
PRODID:-//punkave//apostrophe 1.x//EN
VERSION:1.0
TZ:0
BEGIN:VEVENT
CATEGORIES:MEETING
DTSTART:20150309T220000Z
DTEND:20150310T000000Z
DTSTAMP:20140617T231700Z
SUMMARY:Board Meeting
DESCRIPTION:
LOCATION:
UID:2045
END:VEVENT
END:VCALENDAR