BEGIN:VCALENDAR
PRODID:-//punkave//apostrophe 1.x//EN
VERSION:1.0
TZ:0
BEGIN:VEVENT
CATEGORIES:MEETING
DTSTART:20150309T040000Z
DTEND:20150418T165959Z
DTSTAMP:20140617T231427Z
SUMMARY:Parent Observations
DESCRIPTION:
LOCATION:
UID:2044
END:VEVENT
END:VCALENDAR