BEGIN:VCALENDAR
PRODID:-//punkave//apostrophe 1.x//EN
VERSION:1.0
TZ:0
BEGIN:VEVENT
CATEGORIES:MEETING
DTSTART:20150313T040000Z
DTEND:20150315T165959Z
DTSTAMP:20140617T232000Z
SUMMARY:Staff In-Service
DESCRIPTION:American Montessori Society 2015 Annual Conference Scheduled keynote speakers include Julian Bond, Jennifer Senior, and Jack Andraka who will join previously announced Living Legacy honoree Maria Gravel in Philadelphia, March 12‑15. Drawing from diverse backgrounds and spanning generations, these keynoters embody core Montessori values and will present their unique perspectives on civil rights, education, parenting, and learning. More information about this exciting annual conference will be forthcoming. March 12‑15, 2015 AMS conference. ADM CLOSED.
LOCATION:AMS Conference
UID:2046
END:VEVENT
END:VCALENDAR