BEGIN:VCALENDAR
PRODID:-//punkave//apostrophe 1.x//EN
VERSION:1.0
TZ:0
BEGIN:VEVENT
CATEGORIES:MEETING
DTSTART:20150325T223000Z
DTEND:20150326T000000Z
DTSTAMP:20140617T232200Z
SUMMARY:Admissions Open House
DESCRIPTION:
LOCATION:
UID:2047
END:VEVENT
END:VCALENDAR