BEGIN:VCALENDAR
PRODID:-//punkave//apostrophe 1.x//EN
VERSION:1.0
TZ:0
BEGIN:VEVENT
CATEGORIES:MEETING
DTSTART:20150326T223000Z
DTEND:20150327T003000Z
DTSTAMP:20140617T230400Z
SUMMARY:Parent Education Workshop: Instilling a Healthy Relationship with Electronics
DESCRIPTION:Instilling a Healthy Relationship With Electronics: Supporting Your Child in Optimal Brain Development and Social Skill Building with Isaac Garfield, LCSW Come join us for a learning session on how to support your child in cultivating a healthy relationship with electronics for optimal brain, social skill, and emotional development. In this session parents will learn what experts recommend regarding guidelines for electronic use, suggestions for alternative activities to bolster optimal/holistic child development, and approaches to overcoming the challenges in implementing these guidelines and alternatives. About the presenter: Isaac Garfield LCSW, is a local psychotherapist who works with children and families dealing with a variety of issues including healthy technology use. Please see his website (www.Isaacgpsychotherapy.com) for more information. RSVP: http://www.signupgenius.com/go/8050b49afae28a13-parent5
LOCATION:
UID:2042
END:VEVENT
END:VCALENDAR