BEGIN:VCALENDAR
PRODID:-//punkave//apostrophe 1.x//EN
VERSION:1.0
TZ:0
BEGIN:VEVENT
CATEGORIES:MEETING
DTSTART:20150327T153000Z
DTEND:20150327T163000Z
DTSTAMP:20140729T232328Z
SUMMARY:LATW: Polish and Russian
DESCRIPTION:K students should not bring lunch this day!
LOCATION:
UID:2092
END:VEVENT
END:VCALENDAR