BEGIN:VCALENDAR
PRODID:-//punkave//apostrophe 1.x//EN
VERSION:1.0
TZ:0
BEGIN:VEVENT
CATEGORIES:MEETING
DTSTART:20150330T040000Z
DTEND:20150405T165959Z
DTSTAMP:20140617T232516Z
SUMMARY:Spring Break: SCHOOL CLOSED
DESCRIPTION:ADM in session.
LOCATION:
UID:2048
END:VEVENT
END:VCALENDAR