BEGIN:VCALENDAR
PRODID:-//punkave//apostrophe 1.x//EN
VERSION:1.0
TZ:0
BEGIN:VEVENT
CATEGORIES:MEETING
DTSTART:20150406T040000Z
DTEND:20150408T165959Z
DTSTAMP:20140617T232726Z
SUMMARY:Classes Resume
DESCRIPTION:
LOCATION:
UID:2049
END:VEVENT
END:VCALENDAR