BEGIN:VCALENDAR
PRODID:-//punkave//apostrophe 1.x//EN
VERSION:1.0
TZ:0
BEGIN:VEVENT
CATEGORIES:MEETING
DTSTART:20150408T121500Z
DTEND:20150408T130000Z
DTSTAMP:20150407T131008Z
SUMMARY:Coffee with Laura Connor\'s Team
DESCRIPTION:Come have a chat with Laura\'s team and meet Cherise Sistrunk!
LOCATION:
UID:2290
END:VEVENT
END:VCALENDAR