BEGIN:VCALENDAR
PRODID:-//punkave//apostrophe 1.x//EN
VERSION:1.0
TZ:0
BEGIN:VEVENT
CATEGORIES:MEETING
DTSTART:20150410T040000Z
DTEND:20150412T165959Z
DTSTAMP:20140617T232852Z
SUMMARY:Parent Teacher Conferences: SCHOOL CLOSED
DESCRIPTION:ADM in session.
LOCATION:
UID:2050
END:VEVENT
END:VCALENDAR