BEGIN:VCALENDAR
PRODID:-//punkave//apostrophe 1.x//EN
VERSION:1.0
TZ:0
BEGIN:VEVENT
CATEGORIES:MEETING
DTSTART:20150417T040000Z
DTEND:20150419T165959Z
DTSTAMP:20140617T233038Z
SUMMARY:Parent Teacher Conferences: SCHOOL CLOSED
DESCRIPTION:ADM in session.
LOCATION:
UID:2051
END:VEVENT
END:VCALENDAR