BEGIN:VCALENDAR
PRODID:-//punkave//apostrophe 1.x//EN
VERSION:1.0
TZ:0
BEGIN:VEVENT
CATEGORIES:MEETING
DTSTART:20150420T040000Z
DTEND:20150426T165959Z
DTSTAMP:20140617T233138Z
SUMMARY:GTMS Earth Week
DESCRIPTION:
LOCATION:
UID:2052
END:VEVENT
END:VCALENDAR