BEGIN:VCALENDAR
PRODID:-//punkave//apostrophe 1.x//EN
VERSION:1.0
TZ:0
BEGIN:VEVENT
CATEGORIES:MEETING
DTSTART:20150423T153000Z
DTEND:20150423T163000Z
DTSTAMP:20140729T232727Z
SUMMARY:LATW: British Isles
DESCRIPTION:K students should not bring lunch this day!
LOCATION:
UID:2093
END:VEVENT
END:VCALENDAR