BEGIN:VCALENDAR
PRODID:-//punkave//apostrophe 1.x//EN
VERSION:1.0
TZ:0
BEGIN:VEVENT
CATEGORIES:MEETING
DTSTART:20150424T040000Z
DTEND:20150426T165959Z
DTSTAMP:20140617T233313Z
SUMMARY:Staff In-Service: 11:45 DISMISSAL
DESCRIPTION:ADM in session.
LOCATION:
UID:2053
END:VEVENT
END:VCALENDAR