BEGIN:VCALENDAR
PRODID:-//punkave//apostrophe 1.x//EN
VERSION:1.0
TZ:0
BEGIN:VEVENT
CATEGORIES:MEETING
DTSTART:20150502T150000Z
DTEND:20150502T180000Z
DTSTAMP:20140617T234000Z
SUMMARY:Spring Family Picnic
DESCRIPTION:Lemon Hill Picnic Area #3! Directions: From Center City: West on Kelly Drive, turn right on Sedgely, then hard left onto Lemon Hill Drive. Park just behind the Mansion!
LOCATION:
UID:2054
END:VEVENT
END:VCALENDAR