BEGIN:VCALENDAR
PRODID:-//punkave//apostrophe 1.x//EN
VERSION:1.0
TZ:0
BEGIN:VEVENT
CATEGORIES:MEETING
DTSTART:20150504T040000Z
DTEND:20150510T165959Z
DTSTAMP:20140617T234149Z
SUMMARY:Screen Free Week
DESCRIPTION:
LOCATION:
UID:2055
END:VEVENT
END:VCALENDAR