BEGIN:VCALENDAR
PRODID:-//punkave//apostrophe 1.x//EN
VERSION:1.0
TZ:0
BEGIN:VEVENT
CATEGORIES:MEETING
DTSTART:20150506T121500Z
DTEND:20150506T131500Z
DTSTAMP:20140617T234400Z
SUMMARY:Next Year\'s Kindergarten Parents Orientation
DESCRIPTION:Orientation Coffee for next year\'s K parents.
LOCATION:
UID:2056
END:VEVENT
END:VCALENDAR