BEGIN:VCALENDAR
PRODID:-//punkave//apostrophe 1.x//EN
VERSION:1.0
TZ:0
BEGIN:VEVENT
CATEGORIES:MEETING
DTSTART:20150507T121500Z
DTEND:20150507T131500Z
DTSTAMP:20140618T000400Z
SUMMARY:1st Thursday Coffee: Nutrition
DESCRIPTION:Nutrition For Preschoolers with Rachel Lenhoff, RD LDN There are many questions and concerns we may have as parents about our child’s nutrition and eating habits during their years of growth and development. Join us for an informative session on nutrition and healthy eating for preschoolers with Rachel Lenhoff, clinical dietician at CHOP. Thursday / May 7, 2015 / 8:15‑9:00 AM
LOCATION:
UID:2057
END:VEVENT
END:VCALENDAR