BEGIN:VCALENDAR
PRODID:-//punkave//apostrophe 1.x//EN
VERSION:1.0
TZ:0
BEGIN:VEVENT
CATEGORIES:MEETING
DTSTART:20150508T040000Z
DTEND:20150510T165959Z
DTSTAMP:20140618T000726Z
SUMMARY:Grandparent and Special Friends Day
DESCRIPTION:This is a primary only event. Invitations and RSVPs/Change of Dismissals will be sent out.
LOCATION:
UID:2058
END:VEVENT
END:VCALENDAR