BEGIN:VCALENDAR
PRODID:-//punkave//apostrophe 1.x//EN
VERSION:1.0
TZ:0
BEGIN:VEVENT
CATEGORIES:MEETING
DTSTART:20150512T040000Z
DTEND:20150514T165959Z
DTSTAMP:20150507T151058Z
SUMMARY:Crazy Hair Day!
DESCRIPTION:
LOCATION:
UID:2322
END:VEVENT
END:VCALENDAR