BEGIN:VCALENDAR
PRODID:-//punkave//apostrophe 1.x//EN
VERSION:1.0
TZ:0
BEGIN:VEVENT
CATEGORIES:MEETING
DTSTART:20150514T220000Z
DTEND:20150514T233000Z
DTSTAMP:20140618T001117Z
SUMMARY:New Parent Social
DESCRIPTION:
LOCATION:
UID:2060
END:VEVENT
END:VCALENDAR