BEGIN:VCALENDAR
PRODID:-//punkave//apostrophe 1.x//EN
VERSION:1.0
TZ:0
BEGIN:VEVENT
CATEGORIES:MEETING
DTSTART:20150519T220000Z
DTEND:20150519T230000Z
DTSTAMP:20140618T000900Z
SUMMARY:Board Meeting
DESCRIPTION:
LOCATION:
UID:2059
END:VEVENT
END:VCALENDAR