BEGIN:VCALENDAR
PRODID:-//punkave//apostrophe 1.x//EN
VERSION:1.0
TZ:0
BEGIN:VEVENT
CATEGORIES:MEETING
DTSTART:20150525T040000Z
DTEND:20150527T165959Z
DTSTAMP:20140618T001702Z
SUMMARY:Memorial Day: SCHOOL CLOSED
DESCRIPTION:ADM CLOSED.
LOCATION:
UID:2063
END:VEVENT
END:VCALENDAR